BEGIN:VCALENDAR
VERSION:2.0
PRODID:-//Center for Computational Oncology - ECPv6.5.1.5//NONSGML v1.0//EN
CALSCALE:GREGORIAN
METHOD:PUBLISH
X-ORIGINAL-URL:https://cco.oden.utexas.edu
X-WR-CALDESC:Events for Center for Computational Oncology
REFRESH-INTERVAL;VALUE=DURATION:PT1H
X-Robots-Tag:noindex
X-PUBLISHED-TTL:PT1H
BEGIN:VTIMEZONE
TZID:America/New_York
BEGIN:DAYLIGHT
TZOFFSETFROM:-0500
TZOFFSETTO:-0400
TZNAME:EDT
DTSTART:20200308T070000
END:DAYLIGHT
BEGIN:STANDARD
TZOFFSETFROM:-0400
TZOFFSETTO:-0500
TZNAME:EST
DTSTART:20201101T060000
END:STANDARD
END:VTIMEZONE
BEGIN:VEVENT
DTSTART;TZID=America/New_York:20201014T100000
DTEND;TZID=America/New_York:20201014T110000
DTSTAMP:20260424T123729
CREATED:20200818T005407Z
LAST-MODIFIED:20200818T005407Z
UID:1843-1602669600-1602673200@cco.oden.utexas.edu
SUMMARY:CCO Seminar: Chengyue Wu
DESCRIPTION:Chengyue Wu will present “Patient-specific optimization of drug injection protocols based on image-based fluid dynamics simulation”
URL:https://cco.oden.utexas.edu/seminar/cco-seminar-chengyue-wu/
END:VEVENT
BEGIN:VEVENT
DTSTART;TZID=America/New_York:20201028T100000
DTEND;TZID=America/New_York:20201028T110000
DTSTAMP:20260424T123729
CREATED:20200818T005458Z
LAST-MODIFIED:20200818T005458Z
UID:1845-1603879200-1603882800@cco.oden.utexas.edu
SUMMARY:CCO Seminar: David Hormuth
DESCRIPTION:David Hormuth will present  “Translating image driven models of response to radiation therapy from the pre-clinical to clinical setting”
URL:https://cco.oden.utexas.edu/seminar/cco-seminar-david-hormuth/
END:VEVENT
END:VCALENDAR