BEGIN:VCALENDAR
VERSION:2.0
PRODID:-//Center for Computational Oncology - ECPv6.5.1.5//NONSGML v1.0//EN
CALSCALE:GREGORIAN
METHOD:PUBLISH
X-ORIGINAL-URL:https://cco.oden.utexas.edu
X-WR-CALDESC:Events for Center for Computational Oncology
REFRESH-INTERVAL;VALUE=DURATION:PT1H
X-Robots-Tag:noindex
X-PUBLISHED-TTL:PT1H
BEGIN:VTIMEZONE
TZID:America/New_York
BEGIN:DAYLIGHT
TZOFFSETFROM:-0500
TZOFFSETTO:-0400
TZNAME:EDT
DTSTART:20230312T070000
END:DAYLIGHT
BEGIN:STANDARD
TZOFFSETFROM:-0400
TZOFFSETTO:-0500
TZNAME:EST
DTSTART:20231105T060000
END:STANDARD
END:VTIMEZONE
BEGIN:VEVENT
DTSTART;TZID=America/New_York:20231025T100000
DTEND;TZID=America/New_York:20231025T110000
DTSTAMP:20260422T034206
CREATED:20230519T171940Z
LAST-MODIFIED:20230519T172023Z
UID:2200-1698228000-1698231600@cco.oden.utexas.edu
SUMMARY:CCO Seminar:  Maguy Farhat (MD Anderson Cancer Center)
DESCRIPTION: Data Preparation: Critical Steps to Ensure AI Success
URL:https://cco.oden.utexas.edu/seminar/cco-seminar-maguy-farhat-md-anderson-cancer-center/
END:VEVENT
BEGIN:VEVENT
DTSTART;TZID=America/New_York:20231108T100000
DTEND;TZID=America/New_York:20231108T110000
DTSTAMP:20260422T034206
CREATED:20230519T172117Z
LAST-MODIFIED:20230519T172117Z
UID:2203-1699437600-1699441200@cco.oden.utexas.edu
SUMMARY:CCO Seminar: Nikolaos Dimitriou (McGilll University)
DESCRIPTION:Tentative Title: Calibration and validation of hybrid models of tumour growth
URL:https://cco.oden.utexas.edu/seminar/cco-seminar-nikolaos-dimitriou-mcgilll-university/
END:VEVENT
BEGIN:VEVENT
DTSTART;TZID=America/New_York:20231129T100000
DTEND;TZID=America/New_York:20231129T110000
DTSTAMP:20260422T034206
CREATED:20230519T172205Z
LAST-MODIFIED:20230519T172205Z
UID:2205-1701252000-1701255600@cco.oden.utexas.edu
SUMMARY:CCO Seminar: Ilya Shmulevich (Institute for Systems Biology)
DESCRIPTION:Toward a Prototype of a Digital Twin for Acute Myeloid Leukemia
URL:https://cco.oden.utexas.edu/seminar/cco-seminar-ilya-shmulevich-institute-for-systems-biology/
END:VEVENT
END:VCALENDAR