BEGIN:VCALENDAR
VERSION:2.0
PRODID:-//Center for Computational Oncology - ECPv6.5.1.5//NONSGML v1.0//EN
CALSCALE:GREGORIAN
METHOD:PUBLISH
X-ORIGINAL-URL:https://cco.oden.utexas.edu
X-WR-CALDESC:Events for Center for Computational Oncology
REFRESH-INTERVAL;VALUE=DURATION:PT1H
X-Robots-Tag:noindex
X-PUBLISHED-TTL:PT1H
BEGIN:VTIMEZONE
TZID:UTC
BEGIN:STANDARD
TZOFFSETFROM:+0000
TZOFFSETTO:+0000
TZNAME:UTC
DTSTART:20200101T000000
END:STANDARD
END:VTIMEZONE
BEGIN:VEVENT
DTSTART;TZID=UTC:20200325T100000
DTEND;TZID=UTC:20200325T110000
DTSTAMP:20260425T125616
CREATED:20200129T013148Z
LAST-MODIFIED:20200129T013148Z
UID:1782-1585130400-1585134000@cco.oden.utexas.edu
SUMMARY:CCO Seminar: Carla Vandenberg
DESCRIPTION:
URL:https://cco.oden.utexas.edu/seminar/cco-seminar-carla-vandenberg/
END:VEVENT
END:VCALENDAR