BEGIN:VCALENDAR
VERSION:2.0
PRODID:-//Center for Computational Oncology - ECPv6.5.1.5//NONSGML v1.0//EN
CALSCALE:GREGORIAN
METHOD:PUBLISH
X-ORIGINAL-URL:https://cco.oden.utexas.edu
X-WR-CALDESC:Events for Center for Computational Oncology
REFRESH-INTERVAL;VALUE=DURATION:PT1H
X-Robots-Tag:noindex
X-PUBLISHED-TTL:PT1H
BEGIN:VTIMEZONE
TZID:UTC
BEGIN:STANDARD
TZOFFSETFROM:+0000
TZOFFSETTO:+0000
TZNAME:UTC
DTSTART:20200101T000000
END:STANDARD
END:VTIMEZONE
BEGIN:VEVENT
DTSTART;TZID=UTC:20200212T100000
DTEND;TZID=UTC:20200212T110000
DTSTAMP:20260425T131213
CREATED:20200129T012808Z
LAST-MODIFIED:20200129T012808Z
UID:1776-1581501600-1581505200@cco.oden.utexas.edu
SUMMARY:CCO Seminar: Prashant Jha
DESCRIPTION:Title: TBD
URL:https://cco.oden.utexas.edu/seminar/cco-seminar-prashant-jha/
LOCATION:ICES\, POB 4.304\, 201 East 24th Street\, Austin\, TX\, 78712\, United States
END:VEVENT
END:VCALENDAR